BEGIN:VCALENDAR
BEGIN:VEVENT
DESCRIPTION:\nMore Information: https://secure.belcourt.org/websales/pages/TicketSearchCriteria.aspx?evtInfo=401332~0e560de0-1c41-4136-9890-e42270c1bfb4&\n\nDir. Sam Wrench | USA | 2023 | 165 min. | NR | 4K DCP\n\nBelcourt members: due to nationwide pricing stipulations, we aren't able to offer a member discount for this show. Please log in to purchase tickets with no service fee.
DTSTART:20231026T193000Z
DTEND:20231026T221500Z
LOCATION:1925 Hall, 2102 Belcourt Avenue, NASHVILLE, TN, 37212
SUMMARY:TAYLOR SWIFT | THE ERAS TOUR
UID:401332
DTSTAMP:20260422T034103Z
END:VEVENT
END:VCALENDAR
