BEGIN:VCALENDAR
BEGIN:VEVENT
DESCRIPTION:\nMore Information: https://secure.belcourt.org/websales/pages/TicketSearchCriteria.aspx?evtInfo=545626~0e560de0-1c41-4136-9890-e42270c1bfb4&\n\nDir. Ido Funk | Germany/Belgium/Poland | 2025 | 115 min. | NR | DCP \nIn German with English subtitles
DTSTART:20260331T010000Z
DTEND:20260331T025500Z
LOCATION:1966 Hall, 2102 Belcourt Avenue, NASHVILLE, TN, 37212
SUMMARY:K&#214;LN 75
UID:545626
DTSTAMP:20260420T062526Z
END:VEVENT
END:VCALENDAR
