BEGIN:VCALENDAR
BEGIN:VEVENT
DESCRIPTION:\nMore Information: https://secure.belcourt.org/websales/pages/TicketSearchCriteria.aspx?evtInfo=387522~3a28c818-27b3-492b-8c64-14556ad966cd&\n\nDir. Paul Schrader | USA | 2023 | 111 min. | R | DCP
DTSTART:20230601T011000Z
DTEND:20230601T030100Z
LOCATION:Manzler/Webb Screening Room, 2102 Belcourt Ave., NASHVILLE, TN, 37212
SUMMARY:MASTER GARDENER
UID:387522
DTSTAMP:20260420T062935Z
END:VEVENT
END:VCALENDAR
