BEGIN:VCALENDAR
BEGIN:VEVENT
DESCRIPTION:\nMore Information: https://secure.belcourt.org/websales/pages/TicketSearchCriteria.aspx?evtInfo=387818~3a28c818-27b3-492b-8c64-14556ad966cd&\n\nDir. Wes Anderson | USA | 2023 | 139 min. | R | DCP
DTSTART:20230628T022500Z
DTEND:20230628T041000Z
LOCATION:1925 Hall, 2102 Belcourt Avenue, NASHVILLE, TN, 37212
SUMMARY:ASTEROID CITY
UID:387818
DTSTAMP:20260425T223333Z
END:VEVENT
END:VCALENDAR
