BEGIN:VCALENDAR
BEGIN:VEVENT
DESCRIPTION:\nMore Information: https://secure.belcourt.org/websales/pages/TicketSearchCriteria.aspx?evtInfo=553760~3a28c818-27b3-492b-8c64-14556ad966cd&\n\nDir. Sergei Loznitsa | Germany | 2025 | 117 min. | NR | DCP \nIn Russian and Ukrainian with English subtitles
DTSTART:20260422T184500Z
DTEND:20260422T204200Z
LOCATION:1966 Hall, 2102 Belcourt Avenue, NASHVILLE, TN, 37212
SUMMARY:TWO PROSECUTORS
UID:553760
DTSTAMP:20260420T063113Z
END:VEVENT
END:VCALENDAR
