BEGIN:VCALENDAR
BEGIN:VEVENT
DESCRIPTION:\nMore Information: https://secure.belcourt.org/websales/pages/TicketSearchCriteria.aspx?evtInfo=554517~3a28c818-27b3-492b-8c64-14556ad966cd&\n\nDir. Steven Soderbergh | UK | 2026 | 100 min. | NR | 4K DCP
DTSTART:20260428T221000Z
DTEND:20260428T235000Z
LOCATION:1925 Hall, 2102 Belcourt Avenue, NASHVILLE, TN, 37212
SUMMARY:THE CHRISTOPHERS
UID:554517
DTSTAMP:20260422T044629Z
END:VEVENT
END:VCALENDAR
