BEGIN:VCALENDAR
BEGIN:VEVENT
DESCRIPTION:\nMore Information: https://secure.belcourt.org/websales/pages/TicketSearchCriteria.aspx?evtInfo=554525~3a28c818-27b3-492b-8c64-14556ad966cd&\n\nDir. Steven Soderbergh | UK | 2026 | 100 min. | NR | 4K DCP
DTSTART:20260427T020000Z
DTEND:20260427T034000Z
LOCATION:Manzler/Webb Screening Room, 2102 Belcourt Ave., NASHVILLE, TN, 37212
SUMMARY:THE CHRISTOPHERS
UID:554525
DTSTAMP:20260420T172258Z
END:VEVENT
END:VCALENDAR
