BEGIN:VCALENDAR
BEGIN:VEVENT
DESCRIPTION:\nMore Information: https://secure.belcourt.org/websales/pages/TicketSearchCriteria.aspx?evtInfo=554529~3a28c818-27b3-492b-8c64-14556ad966cd&\n\nDir. Steven Soderbergh | UK | 2026 | 100 min. | NR | 4K DCP
DTSTART:20260425T171000Z
DTEND:20260425T185000Z
LOCATION:Manzler/Webb Screening Room, 2102 Belcourt Ave., NASHVILLE, TN, 37212
SUMMARY:THE CHRISTOPHERS
UID:554529
DTSTAMP:20260420T171948Z
END:VEVENT
END:VCALENDAR
