BEGIN:VCALENDAR
BEGIN:VEVENT
DESCRIPTION:\nMore Information: https://secure.belcourt.org/websales/pages/TicketSearchCriteria.aspx?evtInfo=554551~3a28c818-27b3-492b-8c64-14556ad966cd&\n\nDir. Annemarie Jacir | Palestine | 2026 | 118 min. | NR | 4K DCP \nIn English and Arabic with English subtitles
DTSTART:20260427T212000Z
DTEND:20260427T231800Z
LOCATION:1966 Hall, 2102 Belcourt Avenue, NASHVILLE, TN, 37212
SUMMARY:PALESTINE ‘36
UID:554551
DTSTAMP:20260421T050017Z
END:VEVENT
END:VCALENDAR
