BEGIN:VCALENDAR
BEGIN:VEVENT
DESCRIPTION:\nMore Information: https://secure.belcourt.org/websales/pages/TicketSearchCriteria.aspx?evtInfo=554555~3a28c818-27b3-492b-8c64-14556ad966cd&\n\nDir. Annemarie Jacir | Palestine | 2026 | 118 min. | NR | 4K DCP \nIn English and Arabic with English subtitles
DTSTART:20260424T213500Z
DTEND:20260424T233300Z
LOCATION:1966 Hall, 2102 Belcourt Avenue, NASHVILLE, TN, 37212
SUMMARY:PALESTINE ‘36
UID:554555
DTSTAMP:20260420T172018Z
END:VEVENT
END:VCALENDAR
