BEGIN:VCALENDAR
BEGIN:VEVENT
DESCRIPTION:\nMore Information: https://secure.belcourt.org/websales/pages/TicketSearchCriteria.aspx?evtInfo=554558~3a28c818-27b3-492b-8c64-14556ad966cd&\n\nDir. Morgan Neville | USA | 2026 | 101 min. | NR | DCP
DTSTART:20260424T194000Z
DTEND:20260424T212100Z
LOCATION:Manzler/Webb Screening Room, 2102 Belcourt Ave., NASHVILLE, TN, 37212
SUMMARY:LORNE
UID:554558
DTSTAMP:20260420T172309Z
END:VEVENT
END:VCALENDAR
