BEGIN:VCALENDAR
BEGIN:VEVENT
DESCRIPTION:\nMore Information: https://secure.belcourt.org/websales/pages/TicketSearchCriteria.aspx?evtInfo=554569~3a28c818-27b3-492b-8c64-14556ad966cd&\n\nDir. Annemarie Jacir | Palestine | 2026 | 118 min. | NR | 4K DCP \nIn English and Arabic with English subtitles
DTSTART:20260426T211000Z
DTEND:20260426T230800Z
LOCATION:Manzler/Webb Screening Room, 2102 Belcourt Ave., NASHVILLE, TN, 37212
SUMMARY:PALESTINE ‘36
UID:554569
DTSTAMP:20260420T172308Z
END:VEVENT
END:VCALENDAR
