BEGIN:VCALENDAR
BEGIN:VEVENT
DESCRIPTION:\nMore Information: https://secure.belcourt.org/websales/pages/TicketSearchCriteria.aspx?evtInfo=554577~3a28c818-27b3-492b-8c64-14556ad966cd&\n\nDir. Genki Kawamura | Japan | 2026 | 95 min. | NR | DCP \nIn Japanese with English subtitles
DTSTART:20260427T021000Z
DTEND:20260427T034500Z
LOCATION:1925 Hall, 2102 Belcourt Avenue, NASHVILLE, TN, 37212
SUMMARY:EXIT 8
UID:554577
DTSTAMP:20260420T170246Z
END:VEVENT
END:VCALENDAR
